BEGIN:VCALENDAR
VERSION:2.0
PRODID:-//E-WRITE - ECPv6.15.20//NONSGML v1.0//EN
CALSCALE:GREGORIAN
METHOD:PUBLISH
X-WR-CALNAME:E-WRITE
X-ORIGINAL-URL:https://ewriteonline.com
X-WR-CALDESC:Events for E-WRITE
REFRESH-INTERVAL;VALUE=DURATION:PT1H
X-Robots-Tag:noindex
X-PUBLISHED-TTL:PT1H
BEGIN:VTIMEZONE
TZID:America/New_York
BEGIN:DAYLIGHT
TZOFFSETFROM:-0500
TZOFFSETTO:-0400
TZNAME:EDT
DTSTART:20160313T070000
END:DAYLIGHT
BEGIN:STANDARD
TZOFFSETFROM:-0400
TZOFFSETTO:-0500
TZNAME:EST
DTSTART:20161106T060000
END:STANDARD
BEGIN:DAYLIGHT
TZOFFSETFROM:-0500
TZOFFSETTO:-0400
TZNAME:EDT
DTSTART:20170312T070000
END:DAYLIGHT
BEGIN:STANDARD
TZOFFSETFROM:-0400
TZOFFSETTO:-0500
TZNAME:EST
DTSTART:20171105T060000
END:STANDARD
BEGIN:DAYLIGHT
TZOFFSETFROM:-0500
TZOFFSETTO:-0400
TZNAME:EDT
DTSTART:20180311T070000
END:DAYLIGHT
BEGIN:STANDARD
TZOFFSETFROM:-0400
TZOFFSETTO:-0500
TZNAME:EST
DTSTART:20181104T060000
END:STANDARD
END:VTIMEZONE
BEGIN:VEVENT
DTSTART;TZID=America/New_York:20171206T113000
DTEND;TZID=America/New_York:20171206T150000
DTSTAMP:20260421T043430
CREATED:20171129T152705Z
LAST-MODIFIED:20171129T152815Z
UID:10001693-1512559800-1512572400@ewriteonline.com
SUMMARY:Back to Basics: Writing for Associations - FREE event
DESCRIPTION:Back to Basics: Writing for Associations\n(Sponsored By Unleashed Technologies and New District Media) \nRegister  now! Join us at WeWork Navy Yard for this Lunch & Learn workshop on Wednesday\, December 6th! Lunch will be provided for all attendees. Experienced writing instructor Leslie O’Flahavan will lead this interactive and fun workshop that will renew your excitement for the written word and teach you a few new skills—whether you’re a seasoned association professional looking for a refresher or a new association staffer looking to improve your writing. \nWorkshop Agenda\n\n11:30am – 12:00pm / Registration and Networking\n12:00pm – 1:00pm / Catered Lunch\n1:00pm – 2:30pm / Back to Basics Writing Seminar featuring Leslie O’Flahavan of E-Write\n2:30pm -3:00pm / Closing Remarks and Networking\n\nWorkshop Overview\nDon’t end a sentence in a preposition. Eliminate passive voice. Never use a sentence fragment. Raise your hand if you’ve heard these so-called “writing rules” over the years. We all have ideas about what makes good writing\, but writing rules and concepts have changed over the years. This Lunch & Learn will focus entirely on writing—the backbone of all our association media\, whether it’s a magazine or a Facebook post. \nThis workshop is a great opportunity for communications directors and editors to invite newer colleagues or junior staff writers to attend with them. \n 
URL:https://ewriteonline.com/event/back-to-basics-writing-for-associations-free-event/
LOCATION:80 M St SE Washington\, DC 20003\, 80 M St SE\, Washington\, DC\, 20003\, United States
GEO:38.8770233;-77.0063531
X-APPLE-STRUCTURED-LOCATION;VALUE=URI;X-ADDRESS=80 M St SE Washington DC 20003 80 M St SE Washington DC 20003 United States;X-APPLE-RADIUS=500;X-TITLE=80 M St SE:geo:-77.0063531,38.8770233
END:VEVENT
BEGIN:VEVENT
DTSTART;TZID=America/New_York:20171206T113000
DTEND;TZID=America/New_York:20171206T150000
DTSTAMP:20260421T043430
CREATED:20171129T152705Z
LAST-MODIFIED:20171129T152705Z
UID:10002546-1512559800-1512572400@ewriteonline.com
SUMMARY:Back to Basics: Writing for Associations - FREE event
DESCRIPTION:Back to Basics: Writing for Associations\n(Sponsored By Unleashed Technologies and New District Media) \nRegister  now! Join us at WeWork Navy Yard for this Lunch & Learn workshop on Wednesday\, December 6th! Lunch will be provided for all attendees. Experienced writing instructor Leslie O’Flahavan will lead this interactive and fun workshop that will renew your excitement for the written word and teach you a few new skills—whether you’re a seasoned association professional looking for a refresher or a new association staffer looking to improve your writing. \nWorkshop Agenda\n\n11:30am – 12:00pm / Registration and Networking\n12:00pm – 1:00pm / Catered Lunch\n1:00pm – 2:30pm / Back to Basics Writing Seminar featuring Leslie O’Flahavan of E-Write\n2:30pm -3:00pm / Closing Remarks and Networking\n\nWorkshop Overview\nDon’t end a sentence in a preposition. Eliminate passive voice. Never use a sentence fragment. Raise your hand if you’ve heard these so-called “writing rules” over the years. We all have ideas about what makes good writing\, but writing rules and concepts have changed over the years. This Lunch & Learn will focus entirely on writing—the backbone of all our association media\, whether it’s a magazine or a Facebook post. \nThis workshop is a great opportunity for communications directors and editors to invite newer colleagues or junior staff writers to attend with them. \n 
URL:https://ewriteonline.com/event/back-to-basics-writing-for-associations-free-event-2/
LOCATION:80 M St SE Washington\, DC 20003\, 80 M St SE\, Washington\, DC\, 20003\, United States
GEO:38.8770233;-77.0063531
X-APPLE-STRUCTURED-LOCATION;VALUE=URI;X-ADDRESS=80 M St SE Washington DC 20003 80 M St SE Washington DC 20003 United States;X-APPLE-RADIUS=500;X-TITLE=80 M St SE:geo:-77.0063531,38.8770233
END:VEVENT
END:VCALENDAR