BEGIN:VCALENDAR
VERSION:2.0
PRODID:-//E-WRITE - ECPv6.15.20//NONSGML v1.0//EN
CALSCALE:GREGORIAN
METHOD:PUBLISH
X-ORIGINAL-URL:https://ewriteonline.com
X-WR-CALDESC:Events for E-WRITE
REFRESH-INTERVAL;VALUE=DURATION:PT1H
X-Robots-Tag:noindex
X-PUBLISHED-TTL:PT1H
BEGIN:VTIMEZONE
TZID:America/New_York
BEGIN:DAYLIGHT
TZOFFSETFROM:-0500
TZOFFSETTO:-0400
TZNAME:EDT
DTSTART:20170312T070000
END:DAYLIGHT
BEGIN:STANDARD
TZOFFSETFROM:-0400
TZOFFSETTO:-0500
TZNAME:EST
DTSTART:20171105T060000
END:STANDARD
BEGIN:DAYLIGHT
TZOFFSETFROM:-0500
TZOFFSETTO:-0400
TZNAME:EDT
DTSTART:20180311T070000
END:DAYLIGHT
BEGIN:STANDARD
TZOFFSETFROM:-0400
TZOFFSETTO:-0500
TZNAME:EST
DTSTART:20181104T060000
END:STANDARD
BEGIN:DAYLIGHT
TZOFFSETFROM:-0500
TZOFFSETTO:-0400
TZNAME:EDT
DTSTART:20190310T070000
END:DAYLIGHT
BEGIN:STANDARD
TZOFFSETFROM:-0400
TZOFFSETTO:-0500
TZNAME:EST
DTSTART:20191103T060000
END:STANDARD
END:VTIMEZONE
BEGIN:VEVENT
DTSTART;TZID=America/New_York:20180913T141500
DTEND;TZID=America/New_York:20180913T151500
DTSTAMP:20260420T173418
CREATED:20180425T162839Z
LAST-MODIFIED:20180425T162839Z
UID:10002036-1536848100-1536851700@ewriteonline.com
SUMMARY:Writing for Social Media - US Fish and Wildlife Service
DESCRIPTION:Customized onsite workshop for the Fish and Wildlife Service’s annual Digital Communication in Conservation conference
URL:https://ewriteonline.com/event/writing-for-social-media-us-fish-and-wildlife-service/
LOCATION:US Fish and Wildlife Service\, Shepherdstown\, West Virginia
GEO:39.4300996;-77.8041609
END:VEVENT
BEGIN:VEVENT
DTSTART;TZID=America/New_York:20180913T141500
DTEND;TZID=America/New_York:20180913T151500
DTSTAMP:20260420T173418
CREATED:20180425T162839Z
LAST-MODIFIED:20180425T162839Z
UID:10002556-1536848100-1536851700@ewriteonline.com
SUMMARY:Writing for Social Media - US Fish and Wildlife Service
DESCRIPTION:Customized onsite workshop for the Fish and Wildlife Service’s annual Digital Communication in Conservation conference
URL:https://ewriteonline.com/event/writing-for-social-media-us-fish-and-wildlife-service-2/
LOCATION:US Fish and Wildlife Service\, Shepherdstown\, West Virginia
GEO:39.4300996;-77.8041609
END:VEVENT
BEGIN:VEVENT
DTSTART;TZID=America/New_York:20180913T130000
DTEND;TZID=America/New_York:20180913T140000
DTSTAMP:20260420T173418
CREATED:20180425T162643Z
LAST-MODIFIED:20180425T162643Z
UID:10002035-1536843600-1536847200@ewriteonline.com
SUMMARY:Writing for the Web - US Fish and Wildlife Service
DESCRIPTION:Customized onsite workshop for the Fish and Wildlife Service’s annual Digital Communication in Conservation conference
URL:https://ewriteonline.com/event/writing-for-the-web-us-fish-and-wildlife-service/
LOCATION:US Fish and Wildlife Service\, Shepherdstown\, West Virginia
GEO:39.4300996;-77.8041609
END:VEVENT
BEGIN:VEVENT
DTSTART;TZID=America/New_York:20180913T130000
DTEND;TZID=America/New_York:20180913T140000
DTSTAMP:20260420T173418
CREATED:20180425T162643Z
LAST-MODIFIED:20180425T162643Z
UID:10002555-1536843600-1536847200@ewriteonline.com
SUMMARY:Writing for the Web - US Fish and Wildlife Service
DESCRIPTION:Customized onsite workshop for the Fish and Wildlife Service’s annual Digital Communication in Conservation conference
URL:https://ewriteonline.com/event/writing-for-the-web-us-fish-and-wildlife-service-2/
LOCATION:US Fish and Wildlife Service\, Shepherdstown\, West Virginia
GEO:39.4300996;-77.8041609
END:VEVENT
END:VCALENDAR